Workbook

Sheet Расчет
D1: Шаг нарезов | I1: Винтовка
A3: Тип патрона | D3: Формула Гринхилла | I3: Тип патрона
A4: Диаметр пули | B4: мм | C4: дюймы | D4: В зависимости от диаметра пули (подбираем ствол, Т не более): | I4: =БАЗА_ОРУЖИЯ!B1 -> Калибр | J4: мм | K4: дюймы
B5: =БАЗА_ПАТРОНОВ!E2 -> 5.7 | C5: =B5*0.03937 -> 0.224409 | D5: Английская (дюймовая) система: | J5: =БАЗА_ОРУЖИЯ!B2 -> 5.56 | K5: =J5*0.03937 -> 0.2188972
A6: Длина пули | B6: мм | C6: дюймы | D6: ="Т = ("&IF(B9<457,125,IF(457<B9<853,150,180))&"*"&$C$5&"^2) / "&$C$7&" = "&ROUNDUP((IF(B9<457,125,IF(457<B9<853,150,180))*$C$5^2)/$C$7,3)&" дюймов" -> Т = (180*0,224409^2) / 0,74803 = 12,119 дюймов | I6: =БАЗА_ОРУЖИЯ!C1 -> Шаг нарезов | J6: мм | K6: дюймы
B7: =БАЗА_ПАТРОНОВ!F2 -> 19 | C7: =B7*0.03937 -> 0.74803 | D7: Метрическая система: | J7: =БАЗА_ОРУЖИЯ!C2 -> 305 | K7: =J7*0.03937 -> 12.00785
A8: Скорость пули | B8: м/с | C8: фут/сек | D8: ="Т = ("&IF(B9<457,125,IF(457<B9<853,150,180))&"*"&$B$5&"^2) / "&$B$7&" = "&ROUNDUP((IF(B9<457,125,IF(457<B9<853,150,180))*$B$5^2)/$B$7,3)&" мм" -> Т = (180*5,7^2) / 19 = 307,8 мм | I8: Рекомендуемый шаг нарезов | J8: мм | K8: дюймы
B9: =БАЗА_ПАТРОНОВ!G2 -> 972 | C9: =B9*3.33333333333333 -> 3240 | D9: Формула Гринхилла (обновленная) | J9: =ROUNDUP((IF(B9<457,125,IF(457<B9<853,150,180))*$B$5^2)/$B$7,3) -> 307.8 | K9: =ROUNDUP((IF(B9<457,125,IF(457<B9<853,150,180))*$C$5^2)/$C$7,3) -> 12.119
A10: Масса пули | B10: грамм | C10: гранн | D10: SF = ((W*(20.62*(D^2.25))^2)/((T*(L^2.25))^2))/(1-(V/5705))
B11: =БАЗА_ПАТРОНОВ!H2 -> 3.56 | C11: =B11/0.064799 -> 54.939119 | D11: W - Вес пули в гранах; D - Диаметр пули в дюймах; L - Длина пули в дюймах; T - Шаг нарезов (количество дюймов на одно вращение); V - Начальная скорость пули в футах в секунду.
A12: Баллистический коэфф. | B12: =БАЗА_ПАТРОНОВ!I2 -> 0.255 | E12: ="SF = "&ROUNDUP(((C11*(20.62*(C5^2.25))^2)/((K7*(C7^2.25))^2))/(1-(C9/5705)),3) -> SF = 1,664
A13: Угловая скорость пули | B13: м/с | C13: V
B14: =БАЗА_ПАТРОНОВ!H5 -> 3.56 | C14: =B14/0.064799 -> 54.939119 | D14: SF - гироскопический коеффициент стабильности.
D15: =IF(E12<1,"Пуля не стабильна",IF(E12=1,"Пуля на грани нестабильности",IF(E12>1,IF(E12<1.3,"Пуля на грани нестабильности",IF(E12>1.3,IF(E12<1.5,"Пуля полностью стабилизирована","Пуля максимально стабилизирована")))))) -> Пуля максимально стабилизирована
A20: SF - гироскопический коеффициент стабильности. SF < 1.0 - Пуля не стабильна. SF >= 1.0 - Пуля на грани нестабильности. SF > 1.3 - Пуля полностью стабилизирована. SF > 1.5 - Пуля максимально стабилизирована. | F20: =5.69-5.57 -> 0.12 | J20: 4.2 | K20: =J20/0.064799 -> 64.815815

Sheet БАЗА_ПАТРОНОВ
A1: Тип | B1: Производитель | C1: Тип пули | D1: калибр | E1: Диаметр | F1: длина | G1: скорость | H1: масса | I1: БК
A2: =CHOOSE(A3,A4,A5,A6,A7,A8,A9,A10,A11,A12,A13,A14,A15,A16,A17,A18,A19,A20,A21,A22,A23,A24,A25) -> Hornady V-max 223Rem, 3,56гр | E2: =CHOOSE(E3,E4,E5,E6,E7,E8,E9,E10,E11,E12,E13,E14,E15,E16,E17,E18,E19,E20,E21,E22,E23,E24,E25,E26,E27,E28,E29,E30,E31,E32,E33,E34,E35,E36,E37,E38,E39,) -> 5.7 | F2: =CHOOSE(F3,F4,F5,F6,F7,F8,F9,F10,F11,F12,F13,F14,F15,F16,F17,F18,F19,F20,F21,F22,F23,F24,F25,F26,F27,F28,F29,F30,F31,F32,F33,F34,F35,F36,F37,F38,F39,) -> 19 | G2: =CHOOSE(G3,G4,G5,G6,G7,G8,G9,G10,G11,G12,G13,G14,G15,G16,G17,G18,G19,G20,G21,G22,G23,G24,G25,G26,G27,G28,G29,G30,G31,G32,G33,G34,G35,G36,G37,G38,G39,) -> 972 | H2: =CHOOSE(H3,H4,H5,H6,H7,H8,H9,H10,H11,H12,H13,H14,H15,H16,H17,H18,H19,H20,H21,H22,H23,H24,H25,H26,H27,H28,H29,H30,H31,H32,H33,H34,H35,H36,H37,H38,H39,) -> 3.56 | I2: =CHOOSE(I3,I4,I5,I6,I7,I8,I9,I10,I11,I12,I13,I14,I15,I16,I17,I18,I19,I20,I21,I22,I23,I24,I25,I26,I27,I28,I29,I30,I31,I32,I33,I34,I35,I36,I37,I38,I39,) -> 0.255 | J2: =CHOOSE(J3,J4,J5,J6,J7,J8,J9,J10,J11,J12,J13,J14,J15,J16,J17,J18,J19,J20,J21,J22,J23,J24,J25,J26,J27,J28,J29,J30,J31,J32,J33,J34,J35,J36,J37,J38,J39,) -> 0 | K2: =CHOOSE(K3,K4,K5,K6,K7,K8,K9,K10,K11,K12,K13,K14,K15,K16,K17,K18,K19,K20,K21,K22,K23,K24,K25,K26,K27,K28,K29,K30,K31,K32,K33,K34,K35,K36,K37,K38,K39,) -> 0 | L2: =CHOOSE(L3,L4,L5,L6,L7,L8,L9,L10,L11,L12,L13,L14,L15,L16,L17,L18,L19,L20,L21,L22,L23,L24,L25,L26,L27,L28,L29,L30,L31,L32,L33,L34,L35,L36,L37,L38,L39,) -> 0 | ... O2: =CHOOSE(O3,O4,O5,O6,O7,O8,O9,O10,O11,O12,O13,O14,O15,O16,O17,O18,O19,O20,O21,O22,O23,O24,O25,O26,O27,O28,O29,O30,O31,O32,O33,O34,O35,O36,O37,O38,O39,) -> 0
A3: 16 | E3: =A3 -> 16 | F3: =E3 -> 16 | G3: =F3 -> 16 | H3: =G3 -> 16 | I3: =H3 -> 16 | J3: =I3 -> 16 | K3: =J3 -> 16 | L3: =K3 -> 16 | M3: =L3 -> 16 | ... O3: =N3 -> 16
A4: =B4&" "&C4&" "&D4&", "&H4&"гр" -> Тула GR FMJ 223Rem, 4гр | B4: Тула | C4: GR FMJ | D4: 223Rem | E4: 5.7 | F4: 20 | G4: 930 | H4: 4 | I4: 0.293
A5: =B5&" "&C5&" "&D5&", "&H5&"гр" -> Тула GR FMJ 223Rem, 3,56гр | B5: Тула | C5: GR FMJ | D5: 223Rem | E5: 5.7 | F5: 20 | G5: 957 | H5: 3.56 | I5: 0.257
A6: =B6&" "&C6&" "&D6&", "&H6&"гр" -> Тула GR HP 223Rem, 4гр | B6: Тула | C6: GR HP | D6: 223Rem | E6: 5.7 | F6: 20 | G6: 909 | H6: 4 | I6: 0.248
A7: =B7&" "&C7&" "&D7&", "&H7&"гр" -> Тула GR HP 223Rem, 3,6гр | B7: Тула | C7: GR HP | D7: 223Rem | E7: 5.7 | F7: 19.8 | G7: 947 | H7: 3.6 | I7: 0.255
A8: =B8&" "&C8&" "&D8&", "&H8&"гр" -> Federal GM 223Rem, 5гр | B8: Federal | C8: GM | D8: 223Rem | E8: 5.7 | F8: 20 | G8: 833 | H8: 5 | I8: 0.362
A9: =B9&" "&C9&" "&D9&", "&H9&"гр" -> Winchester SBST 223Rem, 3,2гр | B9: Winchester | C9: SBST | D9: 223Rem | E9: 5.7 | F9: 18 | G9: 1039 | H9: 3.2 | I9: 0.239
A10: =B10&" "&C10&" "&D10&", "&H10&"гр" -> Барнаул GR FMJ 223Rem, 3,56гр | B10: Барнаул | C10: GR FMJ | D10: 223Rem | E10: 5.7 | F10: 21.7 | G10: 935 | H10: 3.56
A11: =B11&" "&C11&" "&D11&", "&H11&"гр" -> Swiss Munition (SM) SWISS P 223Rem, 4,47гр | B11: Swiss Munition (SM) | C11: SWISS P | D11: 223Rem | E11: 5.7 | F11: 20 | G11: 890 | H11: 4.47 | I11: 0.31
A12: =B12&" "&C12&" "&D12&", "&H12&"гр" -> Sako SpeedHead (105G) 223Rem, 3,2гр | B12: Sako | C12: SpeedHead (105G) | D12: 223Rem | E12: 5.7 | F12: 20 | G12: 1020.5 | H12: 3.2 | I12: 0.19
A13: =B13&" "&C13&" "&D13&", "&H13&"гр" -> Norma FMJBT (15725) 223Rem, 3,56гр | B13: Norma | C13: FMJBT (15725) | D13: 223Rem | E13: 5.7 | F13: 20 | G13: 1011 | H13: 3.56 | I13: 0.28
A14: =B14&" "&C14&" "&D14&", "&H14&"гр" -> Winchester Ballistic Silvertip 223Rem, 3,23гр | B14: Winchester | C14: Ballistic Silvertip | D14: 223Rem | E14: 5.69 | F14: 20 | G14: 1039 | H14: 3.23 | I14: 0.238
A15: =B15&" "&C15&" "&D15&", "&H15&"гр" -> 22LR, 2,6гр | D15: 22LR | E15: 5.69 | F15: 20 | G15: 320 | H15: 2.6
A16: =B16&" "&C16&" "&D16&", "&H16&"гр" -> Hornady Varmint Express (VX) MOLY 223Rem, 3,56гр | B16: Hornady | C16: Varmint Express (VX) MOLY | D16: 223Rem | E16: 5.7 | F16: 19 | G16: 1039 | H16: 3.56 | I16: 0.261
A17: =B17&" "&C17&" "&D17&", "&H17&"гр" -> Sako Super Match 223Rem, 3,43гр | B17: Sako | C17: Super Match | D17: 223Rem | E17: 5.7 | F17: 19 | G17: 925 | H17: 3.43
A18: =B18&" "&C18&" "&D18&", "&H18&"гр" -> Hornady V-max 223Rem, 2,59гр | B18: Hornady | C18: V-max | D18: 223Rem | E18: 5.7 | F18: 19 | G18: 1170 | H18: 2.59 | I18: 0.2
A19: =B19&" "&C19&" "&D19&", "&H19&"гр" -> Hornady V-max 223Rem, 3,56гр | B19: Hornady | C19: V-max | D19: 223Rem | E19: 5.7 | F19: 19 | G19: 972 | H19: 3.56 | I19: 0.255
A20: =B20&" "&C20&" "&D20&", "&H20&"гр" -> Кентавр FMJBT (2267) 223Rem, 3,56гр | B20: Кентавр | C20: FMJBT (2267) | D20: 223Rem | E20: 5.7 | F20: 20 | G20: 954 | H20: 3.56 | I20: 0.227
A21: =B21&" "&C21&" "&D21&", "&H21&"гр" -> Кентавр FMJBT 223Rem, 4гр | B21: Кентавр | C21: FMJBT | D21: 223Rem | E21: 5.7 | F21: 20 | G21: 890 | H21: 4 | I21: 0.309
A22: =B22&" "&C22&" "&D22&", "&H22&"гр" -> Кентавр FMJBT 223Rem, 5,8гр | B22: Кентавр | C22: FMJBT | D22: 223Rem | E22: 5.7 | F22: 20 | G22: 819 | H22: 5.8 | I22: 0.1006
A23: =B23&" "&C23&" "&D23&", "&H23&"гр" -> , гр
A24: =B24&" "&C24&" "&D24&", "&H24&"гр" -> , гр
A25: =B25&" "&C25&" "&D25&", "&H25&"гр" -> , гр
A26: =B26&" "&C26&" "&D26&", "&H26&"гр" -> , гр
A27: =B27&" "&C27&" "&D27&", "&H27&"гр" -> , гр
A28: =B28&" "&C28&" "&D28&", "&H28&"гр" -> , гр
A29: =B29&" "&C29&" "&D29&", "&H29&"гр" -> ПНЕВМАТИКА , гр | B29: ПНЕВМАТИКА
A30: =B30&" "&C30&" "&D30&", "&H30&"гр" -> , 0,5гр | E30: 4.5 | F30: 5 | G30: 300 | H30: 0.5 | I30: 0.12
A31: =B31&" "&C31&" "&D31&", "&H31&"гр" -> , 0,55гр | E31: 4.5 | F31: 6 | G31: 300 | H31: 0.55 | I31: 0.12
A32: =B32&" "&C32&" "&D32&", "&H32&"гр" -> , 0,6гр | E32: 4.5 | F32: 7 | G32: 300 | H32: 0.6 | I32: 0.12
A33: =B33&" "&C33&" "&D33&", "&H33&"гр" -> , 0,65гр | E33: 4.5 | F33: 8 | G33: 300 | H33: 0.65 | I33: 0.12
A34: =B34&" "&C34&" "&D34&", "&H34&"гр" -> , 0,75гр | E34: 4.5 | F34: 9 | G34: 300 | H34: 0.75 | I34: 0.12
A35: =B35&" "&C35&" "&D35&", "&H35&"гр" -> , гр
A36: =B36&" "&C36&" "&D36&", "&H36&"гр" -> , гр
A37: =B37&" "&C37&" "&D37&", "&H37&"гр" -> , гр
A38: =B38&" "&C38&" "&D38&", "&H38&"гр" -> , гр
A39: =B39&" "&C39&" "&D39&", "&H39&"гр" -> , гр

Sheet БАЗА_ОРУЖИЯ
A1: Тип | B1: Калибр | C1: Шаг нарезов
A2: =CHOOSE(A3,A4,A5,A6,A7,A8,A9,A10,A11,A12,A13,A14,A15,A16,A17,A18,A19,A20,A21,A22,A23,A24,A25) -> ИЖ-18МН | B2: =CHOOSE(B3,B4,B5,B6,B7,B8,B9,B10,B11,B12,B13,B14,B15,B16,B17,B18,B19,B20,B21,B22,B23,B24,B25) -> 5.56 | C2: =CHOOSE(C3,C4,C5,C6,C7,C8,C9,C10,C11,C12,C13,C14,C15,C16,C17,C18,C19,C20,C21,C22,C23,C24,C25) -> 305 | D2: =CHOOSE(D3,D4,D5,D6,D7,D8,D9,D10,D11,D12,D13,D14,D15,D16,D17,D18,D19,D20,D21,D22,D23,D24,D25) -> 0 | E2: =CHOOSE(E3,E4,E5,E6,E7,E8,E9,E10,E11,E12,E13,E14,E15,E16,E17,E18,E19,E20,E21,E22,E23,E24,E25) -> 0 | F2: =CHOOSE(F3,F4,F5,F6,F7,F8,F9,F10,F11,F12,F13,F14,F15,F16,F17,F18,F19,F20,F21,F22,F23,F24,F25) -> 0 | G2: =CHOOSE(G3,G4,G5,G6,G7,G8,G9,G10,G11,G12,G13,G14,G15,G16,G17,G18,G19,G20,G21,G22,G23,G24,G25) -> 0 | H2: =CHOOSE(H3,H4,H5,H6,H7,H8,H9,H10,H11,H12,H13,H14,H15,H16,H17,H18,H19,H20,H21,H22,H23,H24,H25) -> 0 | ... L2: =CHOOSE(L3,L4,L5,L6,L7,L8,L9,L10,L11,L12,L13,L14,L15,L16,L17,L18,L19,L20,L21,L22,L23,L24,L25) -> 0
A3: 1 | B3: =A3 -> 1 | C3: =B3 -> 1 | D3: =C3 -> 1 | E3: =D3 -> 1 | F3: =E3 -> 1 | G3: =F3 -> 1 | H3: =G3 -> 1 | I3: =H3 -> 1 | ... L3: =K3 -> 1
A4: ИЖ-18МН | B4: 5.56 | C4: 305
A5: ТОЗ-8-01 | B5: 5.6 | C5: 350
A11: ПНЕВМАТИКА | B11: 4.5 | C11: 450
A12: Diana 34 Classic
A13: МР-512 | B13: 4.5 | C13: 400
A14: МР-514 | B14: 4.5 | C14: 450
